BEGIN:VCALENDAR
VERSION:2.0
PRODID:-//Schützenverein Sielhorst - ECPv6.15.20//NONSGML v1.0//EN
CALSCALE:GREGORIAN
METHOD:PUBLISH
X-WR-CALNAME:Schützenverein Sielhorst
X-ORIGINAL-URL:https://www.sv-sielhorst.de
X-WR-CALDESC:Veranstaltungen für Schützenverein Sielhorst
REFRESH-INTERVAL;VALUE=DURATION:PT1H
X-Robots-Tag:noindex
X-PUBLISHED-TTL:PT1H
BEGIN:VTIMEZONE
TZID:Europe/Berlin
BEGIN:DAYLIGHT
TZOFFSETFROM:+0100
TZOFFSETTO:+0200
TZNAME:CEST
DTSTART:20230326T010000
END:DAYLIGHT
BEGIN:STANDARD
TZOFFSETFROM:+0200
TZOFFSETTO:+0100
TZNAME:CET
DTSTART:20231029T010000
END:STANDARD
BEGIN:DAYLIGHT
TZOFFSETFROM:+0100
TZOFFSETTO:+0200
TZNAME:CEST
DTSTART:20240331T010000
END:DAYLIGHT
BEGIN:STANDARD
TZOFFSETFROM:+0200
TZOFFSETTO:+0100
TZNAME:CET
DTSTART:20241027T010000
END:STANDARD
BEGIN:DAYLIGHT
TZOFFSETFROM:+0100
TZOFFSETTO:+0200
TZNAME:CEST
DTSTART:20250330T010000
END:DAYLIGHT
BEGIN:STANDARD
TZOFFSETFROM:+0200
TZOFFSETTO:+0100
TZNAME:CET
DTSTART:20251026T010000
END:STANDARD
END:VTIMEZONE
BEGIN:VEVENT
DTSTART;TZID=Europe/Berlin:20240106T200000
DTEND;TZID=Europe/Berlin:20240106T233000
DTSTAMP:20260422T202710
CREATED:20221217T142653Z
LAST-MODIFIED:20231222T182835Z
UID:435-1704571200-1704583800@www.sv-sielhorst.de
SUMMARY:Jahreshauptversammlung
DESCRIPTION:
URL:https://www.sv-sielhorst.de/event/jahreshauptversammlung-2/
LOCATION:Dorfgemeinschaftshaus\, Springeldamm 1\, Rahden\, Deutschland
END:VEVENT
BEGIN:VEVENT
DTSTART;VALUE=DATE:20240107
DTEND;VALUE=DATE:20240108
DTSTAMP:20260422T202710
CREATED:20231231T111444Z
LAST-MODIFIED:20231231T111444Z
UID:656-1704585600-1704671999@www.sv-sielhorst.de
SUMMARY:Weihnachtsbäume einsammeln
DESCRIPTION:
URL:https://www.sv-sielhorst.de/event/weihnachtsbaeume-einsammeln/
END:VEVENT
BEGIN:VEVENT
DTSTART;TZID=Europe/Berlin:20240127T153000
DTEND;TZID=Europe/Berlin:20240127T233000
DTSTAMP:20260422T202710
CREATED:20231231T111604Z
LAST-MODIFIED:20231231T111621Z
UID:658-1706369400-1706398200@www.sv-sielhorst.de
SUMMARY:Schützenball
DESCRIPTION:
URL:https://www.sv-sielhorst.de/event/schuetzenball-2/
LOCATION:Dorfgemeinschaftshaus\, Springeldamm 1\, Rahden\, Deutschland
END:VEVENT
END:VCALENDAR