BEGIN:VCALENDAR
VERSION:2.0
PRODID:-//Schützenverein Sielhorst - ECPv6.15.20//NONSGML v1.0//EN
CALSCALE:GREGORIAN
METHOD:PUBLISH
X-WR-CALNAME:Schützenverein Sielhorst
X-ORIGINAL-URL:https://www.sv-sielhorst.de
X-WR-CALDESC:Veranstaltungen für Schützenverein Sielhorst
REFRESH-INTERVAL;VALUE=DURATION:PT1H
X-Robots-Tag:noindex
X-PUBLISHED-TTL:PT1H
BEGIN:VTIMEZONE
TZID:Europe/Berlin
BEGIN:DAYLIGHT
TZOFFSETFROM:+0100
TZOFFSETTO:+0200
TZNAME:CEST
DTSTART:20240331T010000
END:DAYLIGHT
BEGIN:STANDARD
TZOFFSETFROM:+0200
TZOFFSETTO:+0100
TZNAME:CET
DTSTART:20241027T010000
END:STANDARD
BEGIN:DAYLIGHT
TZOFFSETFROM:+0100
TZOFFSETTO:+0200
TZNAME:CEST
DTSTART:20250330T010000
END:DAYLIGHT
BEGIN:STANDARD
TZOFFSETFROM:+0200
TZOFFSETTO:+0100
TZNAME:CET
DTSTART:20251026T010000
END:STANDARD
BEGIN:DAYLIGHT
TZOFFSETFROM:+0100
TZOFFSETTO:+0200
TZNAME:CEST
DTSTART:20260329T010000
END:DAYLIGHT
BEGIN:STANDARD
TZOFFSETFROM:+0200
TZOFFSETTO:+0100
TZNAME:CET
DTSTART:20261025T010000
END:STANDARD
END:VTIMEZONE
BEGIN:VEVENT
DTSTART;TZID=Europe/Berlin:20250104T200000
DTEND;TZID=Europe/Berlin:20250104T233000
DTSTAMP:20260422T040416
CREATED:20241205T191947Z
LAST-MODIFIED:20241205T192027Z
UID:737-1736020800-1736033400@www.sv-sielhorst.de
SUMMARY:Jahreshauptversammlung
DESCRIPTION:
URL:https://www.sv-sielhorst.de/event/jahreshauptversammlung-3/
LOCATION:Dorfgemeinschaftshaus\, Springeldamm 1\, Rahden\, Deutschland
END:VEVENT
BEGIN:VEVENT
DTSTART;TZID=Europe/Berlin:20250112T100000
DTEND;TZID=Europe/Berlin:20250112T180000
DTSTAMP:20260422T040416
CREATED:20241205T195034Z
LAST-MODIFIED:20241205T195034Z
UID:750-1736676000-1736704800@www.sv-sielhorst.de
SUMMARY:Weihnachtsbäume einsammeln
DESCRIPTION:
URL:https://www.sv-sielhorst.de/event/weihnachtsbaeume-einsammeln-2/
LOCATION:Dorfgemeinschaftshaus\, Springeldamm 1\, Rahden\, Deutschland
END:VEVENT
BEGIN:VEVENT
DTSTART;TZID=Europe/Berlin:20250125T153000
DTEND;TZID=Europe/Berlin:20250125T233000
DTSTAMP:20260422T040416
CREATED:20241205T194951Z
LAST-MODIFIED:20241205T194951Z
UID:748-1737819000-1737847800@www.sv-sielhorst.de
SUMMARY:Schützenball
DESCRIPTION:
URL:https://www.sv-sielhorst.de/event/schuetzenball-3/
LOCATION:Dorfgemeinschaftshaus\, Springeldamm 1\, Rahden\, Deutschland
END:VEVENT
END:VCALENDAR