BEGIN:VCALENDAR
VERSION:2.0
PRODID:-//Schützenverein Sielhorst - ECPv6.15.20//NONSGML v1.0//EN
CALSCALE:GREGORIAN
METHOD:PUBLISH
X-WR-CALNAME:Schützenverein Sielhorst
X-ORIGINAL-URL:https://www.sv-sielhorst.de
X-WR-CALDESC:Veranstaltungen für Schützenverein Sielhorst
REFRESH-INTERVAL;VALUE=DURATION:PT1H
X-Robots-Tag:noindex
X-PUBLISHED-TTL:PT1H
BEGIN:VTIMEZONE
TZID:Europe/Berlin
BEGIN:DAYLIGHT
TZOFFSETFROM:+0100
TZOFFSETTO:+0200
TZNAME:CEST
DTSTART:20240331T010000
END:DAYLIGHT
BEGIN:STANDARD
TZOFFSETFROM:+0200
TZOFFSETTO:+0100
TZNAME:CET
DTSTART:20241027T010000
END:STANDARD
BEGIN:DAYLIGHT
TZOFFSETFROM:+0100
TZOFFSETTO:+0200
TZNAME:CEST
DTSTART:20250330T010000
END:DAYLIGHT
BEGIN:STANDARD
TZOFFSETFROM:+0200
TZOFFSETTO:+0100
TZNAME:CET
DTSTART:20251026T010000
END:STANDARD
BEGIN:DAYLIGHT
TZOFFSETFROM:+0100
TZOFFSETTO:+0200
TZNAME:CEST
DTSTART:20260329T010000
END:DAYLIGHT
BEGIN:STANDARD
TZOFFSETFROM:+0200
TZOFFSETTO:+0100
TZNAME:CET
DTSTART:20261025T010000
END:STANDARD
END:VTIMEZONE
BEGIN:VEVENT
DTSTART;TZID=Europe/Berlin:20250401T160000
DTEND;TZID=Europe/Berlin:20250401T190000
DTSTAMP:20260422T001607
CREATED:20250302T171748Z
LAST-MODIFIED:20250302T171748Z
UID:815-1743523200-1743534000@www.sv-sielhorst.de
SUMMARY:Kartenspielen Alte Garde
DESCRIPTION:
URL:https://www.sv-sielhorst.de/event/kartenspielen-alte-garde-10/
END:VEVENT
BEGIN:VEVENT
DTSTART;TZID=Europe/Berlin:20250417T200000
DTEND;TZID=Europe/Berlin:20250417T233000
DTSTAMP:20260422T001607
CREATED:20250302T170055Z
LAST-MODIFIED:20250302T170431Z
UID:761-1744920000-1744932600@www.sv-sielhorst.de
SUMMARY:Mitgliederversammlung
DESCRIPTION:
URL:https://www.sv-sielhorst.de/event/mitgliederversammlung-3/
LOCATION:Dorfgemeinschaftshaus\, Springeldamm 1\, Rahden\, Deutschland
END:VEVENT
BEGIN:VEVENT
DTSTART;TZID=Europe/Berlin:20250419T000000
DTEND;TZID=Europe/Berlin:20250419T235959
DTSTAMP:20260422T001607
CREATED:20250302T170125Z
LAST-MODIFIED:20250302T170431Z
UID:763-1745020800-1745107199@www.sv-sielhorst.de
SUMMARY:Osterfeuer Jungschützen
DESCRIPTION:
URL:https://www.sv-sielhorst.de/event/osterfeuer-jungschuetzen-2/
END:VEVENT
BEGIN:VEVENT
DTSTART;TZID=Europe/Berlin:20250420T000000
DTEND;TZID=Europe/Berlin:20250420T235959
DTSTAMP:20260422T001607
CREATED:20250302T170149Z
LAST-MODIFIED:20250302T170431Z
UID:765-1745107200-1745193599@www.sv-sielhorst.de
SUMMARY:Osterfeuer Heimatverein
DESCRIPTION:
URL:https://www.sv-sielhorst.de/event/osterfeuer-heimatverein/
END:VEVENT
END:VCALENDAR