BEGIN:VCALENDAR
VERSION:2.0
PRODID:-//Schützenverein Sielhorst - ECPv6.15.20//NONSGML v1.0//EN
CALSCALE:GREGORIAN
METHOD:PUBLISH
X-WR-CALNAME:Schützenverein Sielhorst
X-ORIGINAL-URL:https://www.sv-sielhorst.de
X-WR-CALDESC:Veranstaltungen für Schützenverein Sielhorst
REFRESH-INTERVAL;VALUE=DURATION:PT1H
X-Robots-Tag:noindex
X-PUBLISHED-TTL:PT1H
BEGIN:VTIMEZONE
TZID:Europe/Berlin
BEGIN:DAYLIGHT
TZOFFSETFROM:+0100
TZOFFSETTO:+0200
TZNAME:CEST
DTSTART:20240331T010000
END:DAYLIGHT
BEGIN:STANDARD
TZOFFSETFROM:+0200
TZOFFSETTO:+0100
TZNAME:CET
DTSTART:20241027T010000
END:STANDARD
BEGIN:DAYLIGHT
TZOFFSETFROM:+0100
TZOFFSETTO:+0200
TZNAME:CEST
DTSTART:20250330T010000
END:DAYLIGHT
BEGIN:STANDARD
TZOFFSETFROM:+0200
TZOFFSETTO:+0100
TZNAME:CET
DTSTART:20251026T010000
END:STANDARD
BEGIN:DAYLIGHT
TZOFFSETFROM:+0100
TZOFFSETTO:+0200
TZNAME:CEST
DTSTART:20260329T010000
END:DAYLIGHT
BEGIN:STANDARD
TZOFFSETFROM:+0200
TZOFFSETTO:+0100
TZNAME:CET
DTSTART:20261025T010000
END:STANDARD
END:VTIMEZONE
BEGIN:VEVENT
DTSTART;TZID=Europe/Berlin:20250704T193000
DTEND;TZID=Europe/Berlin:20250704T233000
DTSTAMP:20260421T200040
CREATED:20250302T170837Z
LAST-MODIFIED:20250302T170837Z
UID:781-1751657400-1751671800@www.sv-sielhorst.de
SUMMARY:Teilnahme Schützenfest Hollwede
DESCRIPTION:
URL:https://www.sv-sielhorst.de/event/teilnahme-schuetzenfest-hollwede/
END:VEVENT
BEGIN:VEVENT
DTSTART;TZID=Europe/Berlin:20250712T200000
DTEND;TZID=Europe/Berlin:20250712T233000
DTSTAMP:20260421T200040
CREATED:20250302T170918Z
LAST-MODIFIED:20250302T170918Z
UID:783-1752350400-1752363000@www.sv-sielhorst.de
SUMMARY:Teilnahme Schützenfest Varlheide
DESCRIPTION:
URL:https://www.sv-sielhorst.de/event/teilnahme-schuetzenfest-varlheide/
END:VEVENT
BEGIN:VEVENT
DTSTART;TZID=Europe/Berlin:20250719T000000
DTEND;TZID=Europe/Berlin:20250719T235959
DTSTAMP:20260421T200040
CREATED:20250302T171220Z
LAST-MODIFIED:20250302T171220Z
UID:793-1752883200-1752969599@www.sv-sielhorst.de
SUMMARY:Grillen Jungschützen
DESCRIPTION:
URL:https://www.sv-sielhorst.de/event/grillen-jungschuetzen-2/
END:VEVENT
BEGIN:VEVENT
DTSTART;TZID=Europe/Berlin:20250725T200000
DTEND;TZID=Europe/Berlin:20250725T233000
DTSTAMP:20260421T200040
CREATED:20250302T170958Z
LAST-MODIFIED:20250302T170958Z
UID:785-1753473600-1753486200@www.sv-sielhorst.de
SUMMARY:Teilnahme Schützenfest Kleinendorf
DESCRIPTION:
URL:https://www.sv-sielhorst.de/event/teilnahme-schuetzenfest-kleinendorf/
END:VEVENT
END:VCALENDAR