BEGIN:VCALENDAR
VERSION:2.0
PRODID:-//Schützenverein Sielhorst - ECPv6.15.20//NONSGML v1.0//EN
CALSCALE:GREGORIAN
METHOD:PUBLISH
X-ORIGINAL-URL:https://www.sv-sielhorst.de
X-WR-CALDESC:Veranstaltungen für Schützenverein Sielhorst
REFRESH-INTERVAL;VALUE=DURATION:PT1H
X-Robots-Tag:noindex
X-PUBLISHED-TTL:PT1H
BEGIN:VTIMEZONE
TZID:Europe/Berlin
BEGIN:DAYLIGHT
TZOFFSETFROM:+0100
TZOFFSETTO:+0200
TZNAME:CEST
DTSTART:20240331T010000
END:DAYLIGHT
BEGIN:STANDARD
TZOFFSETFROM:+0200
TZOFFSETTO:+0100
TZNAME:CET
DTSTART:20241027T010000
END:STANDARD
BEGIN:DAYLIGHT
TZOFFSETFROM:+0100
TZOFFSETTO:+0200
TZNAME:CEST
DTSTART:20250330T010000
END:DAYLIGHT
BEGIN:STANDARD
TZOFFSETFROM:+0200
TZOFFSETTO:+0100
TZNAME:CET
DTSTART:20251026T010000
END:STANDARD
BEGIN:DAYLIGHT
TZOFFSETFROM:+0100
TZOFFSETTO:+0200
TZNAME:CEST
DTSTART:20260329T010000
END:DAYLIGHT
BEGIN:STANDARD
TZOFFSETFROM:+0200
TZOFFSETTO:+0100
TZNAME:CET
DTSTART:20261025T010000
END:STANDARD
END:VTIMEZONE
BEGIN:VEVENT
DTSTART;TZID=Europe/Berlin:20250801T000000
DTEND;TZID=Europe/Berlin:20250803T235959
DTSTAMP:20260421T184423
CREATED:20250302T171118Z
LAST-MODIFIED:20250302T171118Z
UID:789-1754006400-1754265599@www.sv-sielhorst.de
SUMMARY:Jubiläumsschützenfest Sielhorst
DESCRIPTION:
URL:https://www.sv-sielhorst.de/event/jubilaeumsschuetzenfest-sielhorst/
END:VEVENT
BEGIN:VEVENT
DTSTART;TZID=Europe/Berlin:20250822T000000
DTEND;TZID=Europe/Berlin:20250823T235959
DTSTAMP:20260421T184423
CREATED:20250302T171048Z
LAST-MODIFIED:20250302T171048Z
UID:787-1755820800-1755993599@www.sv-sielhorst.de
SUMMARY:Teilnahme Schützenfest Wagenfeld
DESCRIPTION:Der Tag steht noch nicht genau fest: 22.08. oder 23.08.
URL:https://www.sv-sielhorst.de/event/teilnahme-schuetzenfest-wagenfeld/
END:VEVENT
BEGIN:VEVENT
DTSTART;TZID=Europe/Berlin:20250831T000000
DTEND;TZID=Europe/Berlin:20250831T235959
DTSTAMP:20260421T184423
CREATED:20250302T171241Z
LAST-MODIFIED:20250302T171241Z
UID:795-1756598400-1756684799@www.sv-sielhorst.de
SUMMARY:Kreiskönigsschießen in Levern
DESCRIPTION:
URL:https://www.sv-sielhorst.de/event/kreiskoenigsschiessen-in-levern-2/
END:VEVENT
END:VCALENDAR