BEGIN:VCALENDAR
VERSION:2.0
PRODID:-//Schützenverein Sielhorst - ECPv6.15.20//NONSGML v1.0//EN
CALSCALE:GREGORIAN
METHOD:PUBLISH
X-ORIGINAL-URL:https://www.sv-sielhorst.de
X-WR-CALDESC:Veranstaltungen für Schützenverein Sielhorst
REFRESH-INTERVAL;VALUE=DURATION:PT1H
X-Robots-Tag:noindex
X-PUBLISHED-TTL:PT1H
BEGIN:VTIMEZONE
TZID:Europe/Berlin
BEGIN:DAYLIGHT
TZOFFSETFROM:+0100
TZOFFSETTO:+0200
TZNAME:CEST
DTSTART:20240331T010000
END:DAYLIGHT
BEGIN:STANDARD
TZOFFSETFROM:+0200
TZOFFSETTO:+0100
TZNAME:CET
DTSTART:20241027T010000
END:STANDARD
BEGIN:DAYLIGHT
TZOFFSETFROM:+0100
TZOFFSETTO:+0200
TZNAME:CEST
DTSTART:20250330T010000
END:DAYLIGHT
BEGIN:STANDARD
TZOFFSETFROM:+0200
TZOFFSETTO:+0100
TZNAME:CET
DTSTART:20251026T010000
END:STANDARD
BEGIN:DAYLIGHT
TZOFFSETFROM:+0100
TZOFFSETTO:+0200
TZNAME:CEST
DTSTART:20260329T010000
END:DAYLIGHT
BEGIN:STANDARD
TZOFFSETFROM:+0200
TZOFFSETTO:+0100
TZNAME:CET
DTSTART:20261025T010000
END:STANDARD
END:VTIMEZONE
BEGIN:VEVENT
DTSTART;TZID=Europe/Berlin:20250909T160000
DTEND;TZID=Europe/Berlin:20250909T190000
DTSTAMP:20260421T173207
CREATED:20250302T171924Z
LAST-MODIFIED:20250302T171924Z
UID:821-1757433600-1757444400@www.sv-sielhorst.de
SUMMARY:Kartenspielen Alte Garde
DESCRIPTION:
URL:https://www.sv-sielhorst.de/event/kartenspielen-alte-garde-13/
LOCATION:Dorfgemeinschaftshaus\, Springeldamm 1\, Rahden\, Deutschland
END:VEVENT
BEGIN:VEVENT
DTSTART;TZID=Europe/Berlin:20250925T190000
DTEND;TZID=Europe/Berlin:20250925T210000
DTSTAMP:20260421T173207
CREATED:20250302T170402Z
LAST-MODIFIED:20250302T170402Z
UID:771-1758826800-1758834000@www.sv-sielhorst.de
SUMMARY:Bedingungsschießen
DESCRIPTION:
URL:https://www.sv-sielhorst.de/event/bedingungsschiessen-5/
LOCATION:Dorfgemeinschaftshaus\, Springeldamm 1\, Rahden\, Deutschland
END:VEVENT
BEGIN:VEVENT
DTSTART;TZID=Europe/Berlin:20250927T000000
DTEND;TZID=Europe/Berlin:20250927T235959
DTSTAMP:20260421T173207
CREATED:20250302T171304Z
LAST-MODIFIED:20250302T171304Z
UID:797-1758931200-1759017599@www.sv-sielhorst.de
SUMMARY:Kreisköniginnenpokalschießen in Sielhorst
DESCRIPTION:
URL:https://www.sv-sielhorst.de/event/kreiskoeniginnenpokalschiessen-in-sielhorst/
LOCATION:Dorfgemeinschaftshaus\, Springeldamm 1\, Rahden\, Deutschland
END:VEVENT
END:VCALENDAR