BEGIN:VCALENDAR
VERSION:2.0
PRODID:-//Schützenverein Sielhorst - ECPv6.15.20//NONSGML v1.0//EN
CALSCALE:GREGORIAN
METHOD:PUBLISH
X-ORIGINAL-URL:https://www.sv-sielhorst.de
X-WR-CALDESC:Veranstaltungen für Schützenverein Sielhorst
REFRESH-INTERVAL;VALUE=DURATION:PT1H
X-Robots-Tag:noindex
X-PUBLISHED-TTL:PT1H
BEGIN:VTIMEZONE
TZID:Europe/Berlin
BEGIN:DAYLIGHT
TZOFFSETFROM:+0100
TZOFFSETTO:+0200
TZNAME:CEST
DTSTART:20240331T010000
END:DAYLIGHT
BEGIN:STANDARD
TZOFFSETFROM:+0200
TZOFFSETTO:+0100
TZNAME:CET
DTSTART:20241027T010000
END:STANDARD
BEGIN:DAYLIGHT
TZOFFSETFROM:+0100
TZOFFSETTO:+0200
TZNAME:CEST
DTSTART:20250330T010000
END:DAYLIGHT
BEGIN:STANDARD
TZOFFSETFROM:+0200
TZOFFSETTO:+0100
TZNAME:CET
DTSTART:20251026T010000
END:STANDARD
BEGIN:DAYLIGHT
TZOFFSETFROM:+0100
TZOFFSETTO:+0200
TZNAME:CEST
DTSTART:20260329T010000
END:DAYLIGHT
BEGIN:STANDARD
TZOFFSETFROM:+0200
TZOFFSETTO:+0100
TZNAME:CET
DTSTART:20261025T010000
END:STANDARD
END:VTIMEZONE
BEGIN:VEVENT
DTSTART;TZID=Europe/Berlin:20251202T160000
DTEND;TZID=Europe/Berlin:20251202T190000
DTSTAMP:20260421T135117
CREATED:20250302T172051Z
LAST-MODIFIED:20250302T172051Z
UID:827-1764691200-1764702000@www.sv-sielhorst.de
SUMMARY:Kartenspielen Alte Garde
DESCRIPTION:
URL:https://www.sv-sielhorst.de/event/kartenspielen-alte-garde-16/
LOCATION:Dorfgemeinschaftshaus\, Springeldamm 1\, Rahden\, Deutschland
END:VEVENT
BEGIN:VEVENT
DTSTART;TZID=Europe/Berlin:20251207T170000
DTEND;TZID=Europe/Berlin:20251207T220000
DTSTAMP:20260421T135117
CREATED:20250302T171609Z
LAST-MODIFIED:20250302T171609Z
UID:809-1765126800-1765144800@www.sv-sielhorst.de
SUMMARY:JHV Alte Garde
DESCRIPTION:
URL:https://www.sv-sielhorst.de/event/jhv-alte-garde-3/
LOCATION:Dorfgemeinschaftshaus\, Springeldamm 1\, Rahden\, Deutschland
END:VEVENT
BEGIN:VEVENT
DTSTART;TZID=Europe/Berlin:20251217T190000
DTEND;TZID=Europe/Berlin:20251217T220000
DTSTAMP:20260421T135117
CREATED:20250302T171642Z
LAST-MODIFIED:20250302T171642Z
UID:811-1765998000-1766008800@www.sv-sielhorst.de
SUMMARY:JHV Spielmannszug
DESCRIPTION:
URL:https://www.sv-sielhorst.de/event/jhv-spielmannszug-4/
LOCATION:Dorfgemeinschaftshaus\, Springeldamm 1\, Rahden\, Deutschland
END:VEVENT
END:VCALENDAR